BEGIN:VCALENDAR
VERSION:2.0
PRODID:-//Blue Ridge Humane Society - ECPv6.15.20//NONSGML v1.0//EN
CALSCALE:GREGORIAN
METHOD:PUBLISH
X-ORIGINAL-URL:https://www.blueridgehumane.org
X-WR-CALDESC:Events for Blue Ridge Humane Society
REFRESH-INTERVAL;VALUE=DURATION:PT1H
X-Robots-Tag:noindex
X-PUBLISHED-TTL:PT1H
BEGIN:VTIMEZONE
TZID:America/New_York
BEGIN:DAYLIGHT
TZOFFSETFROM:-0500
TZOFFSETTO:-0400
TZNAME:EDT
DTSTART:20250309T070000
END:DAYLIGHT
BEGIN:STANDARD
TZOFFSETFROM:-0400
TZOFFSETTO:-0500
TZNAME:EST
DTSTART:20251102T060000
END:STANDARD
BEGIN:DAYLIGHT
TZOFFSETFROM:-0500
TZOFFSETTO:-0400
TZNAME:EDT
DTSTART:20260308T070000
END:DAYLIGHT
BEGIN:STANDARD
TZOFFSETFROM:-0400
TZOFFSETTO:-0500
TZNAME:EST
DTSTART:20261101T060000
END:STANDARD
BEGIN:DAYLIGHT
TZOFFSETFROM:-0500
TZOFFSETTO:-0400
TZNAME:EDT
DTSTART:20270314T070000
END:DAYLIGHT
BEGIN:STANDARD
TZOFFSETFROM:-0400
TZOFFSETTO:-0500
TZNAME:EST
DTSTART:20271107T060000
END:STANDARD
END:VTIMEZONE
BEGIN:VEVENT
DTSTART;TZID=America/New_York:20260425T110000
DTEND;TZID=America/New_York:20260425T140000
DTSTAMP:20260425T115231
CREATED:20260310T200336Z
LAST-MODIFIED:20260310T200336Z
UID:31453-1777114800-1777125600@www.blueridgehumane.org
SUMMARY:For the Love of Pets: Pet Expo and Resource Event
DESCRIPTION:The Asheville Area Professional Pet Sitting Association (AAPPSA)\, in partnership with Fletcher Parks & Rec\, is thrilled to invite you to the FOR THE LOVE OF PETS: PET EXPO & RESOURCE EVENT 2026!  \n\nCome out and meet local pet sitters in person\, along with 29 other pet businesses and rescue organizations. This event is a great opportunity to learn about the many pet resources available in our community.\n\n\n\nWhether you already have pets or are thinking about adding one to your family\, you’ll be able to connect with rescues\, pet professionals\, and local businesses that can help you care for your furry friends.\n\nThis event is free! BRHS will be tabling this event\, so come out and say hi!
URL:https://www.blueridgehumane.org/calendar/for-the-love-of-pets-pet-expo-and-resource-event/
LOCATION:Bill Moore Community Park\, 85 Howard Gap Road\, Fletcher\, NC\, 29732\, United States
CATEGORIES:Community Event,Featured
ATTACH;FMTTYPE=image/png:https://www.blueridgehumane.org/wp-content/uploads/2026/03/download.png
END:VEVENT
END:VCALENDAR