BEGIN:VCALENDAR
VERSION:2.0
PRODID:-//Blue Ridge Humane Society - ECPv6.15.20//NONSGML v1.0//EN
CALSCALE:GREGORIAN
METHOD:PUBLISH
X-WR-CALNAME:Blue Ridge Humane Society
X-ORIGINAL-URL:https://www.blueridgehumane.org
X-WR-CALDESC:Events for Blue Ridge Humane Society
REFRESH-INTERVAL;VALUE=DURATION:PT1H
X-Robots-Tag:noindex
X-PUBLISHED-TTL:PT1H
BEGIN:VTIMEZONE
TZID:America/New_York
BEGIN:DAYLIGHT
TZOFFSETFROM:-0500
TZOFFSETTO:-0400
TZNAME:EDT
DTSTART:20250309T070000
END:DAYLIGHT
BEGIN:STANDARD
TZOFFSETFROM:-0400
TZOFFSETTO:-0500
TZNAME:EST
DTSTART:20251102T060000
END:STANDARD
BEGIN:DAYLIGHT
TZOFFSETFROM:-0500
TZOFFSETTO:-0400
TZNAME:EDT
DTSTART:20260308T070000
END:DAYLIGHT
BEGIN:STANDARD
TZOFFSETFROM:-0400
TZOFFSETTO:-0500
TZNAME:EST
DTSTART:20261101T060000
END:STANDARD
BEGIN:DAYLIGHT
TZOFFSETFROM:-0500
TZOFFSETTO:-0400
TZNAME:EDT
DTSTART:20270314T070000
END:DAYLIGHT
BEGIN:STANDARD
TZOFFSETFROM:-0400
TZOFFSETTO:-0500
TZNAME:EST
DTSTART:20271107T060000
END:STANDARD
END:VTIMEZONE
BEGIN:VEVENT
DTSTART;TZID=America/New_York:20260606T120000
DTEND;TZID=America/New_York:20260606T170000
DTSTAMP:20260423T135803
CREATED:20260421T134931Z
LAST-MODIFIED:20260421T134931Z
UID:31675-1780747200-1780765200@www.blueridgehumane.org
SUMMARY:Hendersonville Pride
DESCRIPTION:The 6th Annual Hendersonville Pride Festival will be held at Jackson Park on Saturday\, June 6th from 12 PM – 5 PM! BRHS will be tabling at this event.
URL:https://www.blueridgehumane.org/calendar/hendersonville-pride/
LOCATION:jackson park\, 801 4th Ave East\, Hendersonville\, NC\, 28972\, United States
CATEGORIES:Community Event,Featured
ATTACH;FMTTYPE=image/png:https://www.blueridgehumane.org/wp-content/uploads/2026/04/Pride-Logo.png
END:VEVENT
END:VCALENDAR